BEGIN:VCALENDAR
VERSION:2.0
PRODID:-//Embellish Handbells - ECPv6.15.20//NONSGML v1.0//EN
CALSCALE:GREGORIAN
METHOD:PUBLISH
X-ORIGINAL-URL:https://embellishhandbells.com
X-WR-CALDESC:Events for Embellish Handbells
REFRESH-INTERVAL;VALUE=DURATION:PT1H
X-Robots-Tag:noindex
X-PUBLISHED-TTL:PT1H
BEGIN:VTIMEZONE
TZID:America/Detroit
BEGIN:DAYLIGHT
TZOFFSETFROM:-0500
TZOFFSETTO:-0400
TZNAME:EDT
DTSTART:20230312T070000
END:DAYLIGHT
BEGIN:STANDARD
TZOFFSETFROM:-0400
TZOFFSETTO:-0500
TZNAME:EST
DTSTART:20231105T060000
END:STANDARD
BEGIN:DAYLIGHT
TZOFFSETFROM:-0500
TZOFFSETTO:-0400
TZNAME:EDT
DTSTART:20240310T070000
END:DAYLIGHT
BEGIN:STANDARD
TZOFFSETFROM:-0400
TZOFFSETTO:-0500
TZNAME:EST
DTSTART:20241103T060000
END:STANDARD
BEGIN:DAYLIGHT
TZOFFSETFROM:-0500
TZOFFSETTO:-0400
TZNAME:EDT
DTSTART:20250309T070000
END:DAYLIGHT
BEGIN:STANDARD
TZOFFSETFROM:-0400
TZOFFSETTO:-0500
TZNAME:EST
DTSTART:20251102T060000
END:STANDARD
END:VTIMEZONE
BEGIN:VEVENT
DTSTART;TZID=America/Detroit:20241217T193000
DTEND;TZID=America/Detroit:20241217T210000
DTSTAMP:20260425T075112
CREATED:20241007T194829Z
LAST-MODIFIED:20241216T124047Z
UID:354-1734463800-1734469200@embellishhandbells.com
SUMMARY:'Tis the Season to Embellish - Holiday Concert
DESCRIPTION:Join Embellish for our celebration of the holidays! This year\, our concert theme will be “Journey to Joy.” \n\n\n\nDiscounted Group Tickets are available for just $9 each for groups of 10 or more tickets. Please contact us at Embellish@EmbellishHandbells.com to purchase your group tickets. \n\n\n\nTickets will be available for purchase at the door.
URL:https://embellishhandbells.com/event/tis-the-season-to-embellish-holiday-concert/
LOCATION:Mayflower Congregational Church\, 2345 Robinson Rd SE\, Grand Rapids\, Michigan\, 49506\, United States
END:VEVENT
BEGIN:VEVENT
DTSTART;TZID=America/Detroit:20241221T150000
DTEND;TZID=America/Detroit:20241221T170000
DTSTAMP:20260425T075112
CREATED:20241104T013822Z
LAST-MODIFIED:20241220T131532Z
UID:370-1734793200-1734800400@embellishhandbells.com
SUMMARY:‘Tis the Season to Embellish\, feat. Campana – Holiday Concert
DESCRIPTION:A second date for our Holiday Concert has been added! Join Embellish + Campana for our celebration of the holidays! This year\, our concert theme will be “Journey to Joy.” \n\n\n\nDiscounted Group Tickets are available for just $9 each for groups of 10 or more tickets. Please contact us at Embellish@EmbellishHandbells.com to purchase your group tickets. \n\n\n\n \n\n\n\nTickets will be available for purchase at the door.
URL:https://embellishhandbells.com/event/tis-the-season-to-embellish-feat-campana-holiday-concert/
LOCATION:Rush Creek Bible Church\, 2334 76th St SW\, Byron Center\, Michigan\, 49315\, United States
END:VEVENT
END:VCALENDAR