BEGIN:VCALENDAR
VERSION:2.0
PRODID:-//Embellish Handbells - ECPv6.15.20//NONSGML v1.0//EN
CALSCALE:GREGORIAN
METHOD:PUBLISH
X-ORIGINAL-URL:https://embellishhandbells.com
X-WR-CALDESC:Events for Embellish Handbells
REFRESH-INTERVAL;VALUE=DURATION:PT1H
X-Robots-Tag:noindex
X-PUBLISHED-TTL:PT1H
BEGIN:VTIMEZONE
TZID:America/Detroit
BEGIN:DAYLIGHT
TZOFFSETFROM:-0500
TZOFFSETTO:-0400
TZNAME:EDT
DTSTART:20230312T070000
END:DAYLIGHT
BEGIN:STANDARD
TZOFFSETFROM:-0400
TZOFFSETTO:-0500
TZNAME:EST
DTSTART:20231105T060000
END:STANDARD
BEGIN:DAYLIGHT
TZOFFSETFROM:-0500
TZOFFSETTO:-0400
TZNAME:EDT
DTSTART:20240310T070000
END:DAYLIGHT
BEGIN:STANDARD
TZOFFSETFROM:-0400
TZOFFSETTO:-0500
TZNAME:EST
DTSTART:20241103T060000
END:STANDARD
BEGIN:DAYLIGHT
TZOFFSETFROM:-0500
TZOFFSETTO:-0400
TZNAME:EDT
DTSTART:20250309T070000
END:DAYLIGHT
BEGIN:STANDARD
TZOFFSETFROM:-0400
TZOFFSETTO:-0500
TZNAME:EST
DTSTART:20251102T060000
END:STANDARD
END:VTIMEZONE
BEGIN:VEVENT
DTSTART;TZID=America/Detroit:20240505T150000
DTEND;TZID=America/Detroit:20240505T170000
DTSTAMP:20260425T163317
CREATED:20230806T145315Z
LAST-MODIFIED:20240503T214508Z
UID:210-1714921200-1714928400@embellishhandbells.com
SUMMARY:Embellish Handbells Spring Concert: 'Bell'ebration
DESCRIPTION:Celebrate music with us!Big or small come and celebrate music with Embellish on May 5th. Together we’ll take a “Walk in the Park” to see the “Frolic Flight of the Hummingbird.” \n\n\n\nIt will be a “Celebration” of our first year with a new director.  \n\n\n\nYou will be changed “For Good” and find that “You’ve Got a Friend” in Embellish.  \n\n\n\nCONCERT DETAILS: \n\n\n\n\nSunday\, May 5\, 2024 – 3:00 pm\n\n\n\nMatthews Performing Arts Center at Cornerstone University\n\n\n\n3000 Leonard St NE\, Grand Rapids\, MI\n\n\n\n\n\n\n\n\n\n\n\n\n\n\nTICKETS: \n\n\n\n\nONLINE ADVANCED TICKET SALES HAVE CONCLUDED. TICKETS WILL BE AVAILABLE AT THE DOOR!\n\n\n\nTickets at the Door: $14\n\n\n\nChildren and students receive free admission.\n\n\n\nDiscounted tickets available for groups of 10+
URL:https://embellishhandbells.com/event/embellish-handbells-spring-concert/
LOCATION:Matthews Performing Arts Center at Cornerstone University\, 3000 Leonard St NE\, Grand Rapids\, Michigan\, 49525\, United States
END:VEVENT
BEGIN:VEVENT
DTSTART;TZID=America/Detroit:20240507T180000
DTEND;TZID=America/Detroit:20240507T193000
DTSTAMP:20260425T163317
CREATED:20240424T191036Z
LAST-MODIFIED:20240424T191231Z
UID:341-1715104800-1715110200@embellishhandbells.com
SUMMARY:Open House: Prospective Ringers & Community Welcome!
DESCRIPTION:Join us on May 7th at 6pm for our Embellish Open House! Anyone who is interested in the “behind the scenes” of Embellish is welcome! \n\n\n\n Prospective ringers are invited to come learn what it takes to be part of the group\, whether you are interested in potentially ringing with Embellish or Campana. \n\n\n\n Local handbell ringers and/or directors can stay (or join) at 7pm to see how we run an Embellish rehearsal. \n\n\n\n Community musicians interested in partnering with Embellish are welcome to attend as well\, to meet Brenda E. Austin – Embellish’s new Music Director. \n\n\n\nRSVPs appreciated via our Facebook Event Page.
URL:https://embellishhandbells.com/event/open-house-prospective-ringers-community-welcome/
LOCATION:Michigan
END:VEVENT
BEGIN:VEVENT
DTSTART;TZID=America/Detroit:20240521T180000
DTEND;TZID=America/Detroit:20240521T203000
DTSTAMP:20260425T163317
CREATED:20240513T182126Z
LAST-MODIFIED:20240513T182131Z
UID:345-1716314400-1716323400@embellishhandbells.com
SUMMARY:Embellish Auditions
DESCRIPTION:Calling all handbell musicians! \n\n\n\nAuditions for Embellish’s 2024-25 season will be held by appointment only the evening of May 21st. \n\n\n\nIf you are interested in scheduling an audition\, please contact us at Embellish@EmbellishHandbells.com prior to May 14th to secure your spot.
URL:https://embellishhandbells.com/event/embellish-auditions/
LOCATION:Faith Community Church\, 2600 7th St NW\, Grand Rapids\, Michigan\, 49504\, United States
END:VEVENT
END:VCALENDAR