BEGIN:VCALENDAR
VERSION:2.0
PRODID:-//Embellish Handbells - ECPv6.15.20//NONSGML v1.0//EN
CALSCALE:GREGORIAN
METHOD:PUBLISH
X-WR-CALNAME:Embellish Handbells
X-ORIGINAL-URL:https://embellishhandbells.com
X-WR-CALDESC:Events for Embellish Handbells
REFRESH-INTERVAL;VALUE=DURATION:PT1H
X-Robots-Tag:noindex
X-PUBLISHED-TTL:PT1H
BEGIN:VTIMEZONE
TZID:America/Detroit
BEGIN:DAYLIGHT
TZOFFSETFROM:-0500
TZOFFSETTO:-0400
TZNAME:EDT
DTSTART:20220313T070000
END:DAYLIGHT
BEGIN:STANDARD
TZOFFSETFROM:-0400
TZOFFSETTO:-0500
TZNAME:EST
DTSTART:20221106T060000
END:STANDARD
BEGIN:DAYLIGHT
TZOFFSETFROM:-0500
TZOFFSETTO:-0400
TZNAME:EDT
DTSTART:20230312T070000
END:DAYLIGHT
BEGIN:STANDARD
TZOFFSETFROM:-0400
TZOFFSETTO:-0500
TZNAME:EST
DTSTART:20231105T060000
END:STANDARD
BEGIN:DAYLIGHT
TZOFFSETFROM:-0500
TZOFFSETTO:-0400
TZNAME:EDT
DTSTART:20240310T070000
END:DAYLIGHT
BEGIN:STANDARD
TZOFFSETFROM:-0400
TZOFFSETTO:-0500
TZNAME:EST
DTSTART:20241103T060000
END:STANDARD
END:VTIMEZONE
BEGIN:VEVENT
DTSTART;TZID=America/Detroit:20231223T140000
DTEND;TZID=America/Detroit:20231223T140000
DTSTAMP:20260425T075522
CREATED:20230806T145858Z
LAST-MODIFIED:20230806T145859Z
UID:215-1703340000-1703340000@embellishhandbells.com
SUMMARY:GR Symphony Holiday Pops\, featuring Embellish Handbells
DESCRIPTION:BOB BERNHARDT conductor | SHAYNA STEELE vocalsGRAND RAPIDS SYMPHONY CHORUS\, PEARL SHANGKUAN directorGRAND RAPIDS YOUTH CHORUS\, LEAH IVORY directorEMBELLISH HANDBELL ENSEMBLE\, BRENDA AUSTIN director \n\n\n\nJoin us for this long-standing holiday tradition with Bob Bernhardt the Grand Rapids Symphony\, the Grand Rapids Symphony Chorus\, the Grand Rapids Youth Chorus\, Embellish Handbell Ensemble\, and frequent GRS soloist Shayna Steele! \n\n\n\nHear your seasonal favorites including “Joy to the World\,” “O Come All Ye Faithful\,” John Williams’ selections from the movie Home Alone\, a “Christmas Sing-Along\,” and the “Hallelujah” Chorus from The Messiah. \n\n\n\nPlus—a surprise visit all the way from the North Pole!
URL:https://embellishhandbells.com/event/gr-symphony-holiday-pops-featuring-embellish-handbells-3/
LOCATION:Kansas
END:VEVENT
BEGIN:VEVENT
DTSTART;TZID=America/Detroit:20231222T190000
DTEND;TZID=America/Detroit:20231222T190000
DTSTAMP:20260425T075522
CREATED:20230806T145836Z
LAST-MODIFIED:20230806T145838Z
UID:214-1703271600-1703271600@embellishhandbells.com
SUMMARY:GR Symphony Holiday Pops\, featuring Embellish Handbells
DESCRIPTION:BOB BERNHARDT conductor | SHAYNA STEELE vocalsGRAND RAPIDS SYMPHONY CHORUS\, PEARL SHANGKUAN directorGRAND RAPIDS YOUTH CHORUS\, LEAH IVORY directorEMBELLISH HANDBELL ENSEMBLE\, BRENDA AUSTIN director \n\n\n\nJoin us for this long-standing holiday tradition with Bob Bernhardt the Grand Rapids Symphony\, the Grand Rapids Symphony Chorus\, the Grand Rapids Youth Chorus\, Embellish Handbell Ensemble\, and frequent GRS soloist Shayna Steele! \n\n\n\nHear your seasonal favorites including “Joy to the World\,” “O Come All Ye Faithful\,” John Williams’ selections from the movie Home Alone\, a “Christmas Sing-Along\,” and the “Hallelujah” Chorus from The Messiah. \n\n\n\nPlus—a surprise visit all the way from the North Pole!
URL:https://embellishhandbells.com/event/gr-symphony-holiday-pops-featuring-embellish-handbells-2/
LOCATION:Kansas
END:VEVENT
BEGIN:VEVENT
DTSTART;TZID=America/Detroit:20231221T190000
DTEND;TZID=America/Detroit:20231221T190000
DTSTAMP:20260425T075522
CREATED:20230806T145612Z
LAST-MODIFIED:20230806T145615Z
UID:212-1703185200-1703185200@embellishhandbells.com
SUMMARY:GR Symphony Holiday Pops\, featuring Embellish Handbells
DESCRIPTION:BOB BERNHARDT conductor | SHAYNA STEELE vocalsGRAND RAPIDS SYMPHONY CHORUS\, PEARL SHANGKUAN directorGRAND RAPIDS YOUTH CHORUS\, LEAH IVORY directorEMBELLISH HANDBELL ENSEMBLE\, BRENDA AUSTIN director \n\n\n\nJoin us for this long-standing holiday tradition with Bob Bernhardt the Grand Rapids Symphony\, the Grand Rapids Symphony Chorus\, the Grand Rapids Youth Chorus\, Embellish Handbell Ensemble\, and frequent GRS soloist Shayna Steele! \n\n\n\nHear your seasonal favorites including “Joy to the World\,” “O Come All Ye Faithful\,” John Williams’ selections from the movie Home Alone\, a “Christmas Sing-Along\,” and the “Hallelujah” Chorus from The Messiah. \n\n\n\nPlus—a surprise visit all the way from the North Pole!
URL:https://embellishhandbells.com/event/gr-symphony-holiday-pops-featuring-embellish-handbells/
LOCATION:Kansas
END:VEVENT
BEGIN:VEVENT
DTSTART;TZID=America/Detroit:20231212T193000
DTEND;TZID=America/Detroit:20231212T210000
DTSTAMP:20260425T075522
CREATED:20230806T145009Z
LAST-MODIFIED:20231210T173125Z
UID:205-1702409400-1702414800@embellishhandbells.com
SUMMARY:'Tis the Season to Embellish - Holiday Handbell Concert
DESCRIPTION:12/10/23 Ticket Update: \n\n\n\nWe are overwhelmed by all of the support and excitement for this Tuesday’s concert!  \n\n\n\n There will be a VERY LIMITED number of tickets available for purchase at the door on Tuesday\, as we are close to hitting the seating capacity at the venue. \n\n\n\n As of Sunday 12/10 online ticket pre-sales have been closed. \n\n\n\n\n\n\n\nJoin the Embellish Family for this year’s Holiday Handbell Concert!  \n\n\n\nThis year’s concert will feature both Embellish and Campana performing songs in the theme of “Angels & Demons.” \n\n\n\n \n\n\n\n\n\n\n\n\n\n\n\n\n\n\n\n\n\n\n\n\n\n \n\n\n\n\n\n\n\nFor discounted group tickets for 10 or more tickets\, please contact us at Embellish@EmbellishHandbells.com
URL:https://embellishhandbells.com/event/tis-the-season-to-embellish-holiday-handbell-concert/
LOCATION:Mayflower Congregational Church\, 2345 Robinson Rd SE\, Grand Rapids\, Michigan\, 49506\, United States
END:VEVENT
BEGIN:VEVENT
DTSTART;TZID=America/Detroit:20230711T190000
DTEND;TZID=America/Detroit:20230711T210000
DTSTAMP:20260425T075522
CREATED:20230514T174328Z
LAST-MODIFIED:20230709T035751Z
UID:20-1689102000-1689109200@embellishhandbells.com
SUMMARY:Raleigh Ringers in Grand Rapids
DESCRIPTION:Please join us in welcoming the Raleigh Ringers to West Michigan!\n\n\n\nHosted by Embellish Handbells \n\n\n\n\n\n\n\n\n\n\n\n\n\n\n“Noted for their creative\, artistic interpretation\, The Raleigh Ringers have established themselves as America’s premiere professional ensemble.” \nDr. William A. Payn\, Retired Chair\, Department of Music\, Bucknell University\n\n\n\n\n\nConcert time:\n\n\n\n\n7pm-9pm on Tuesday\, July 11th\n\n\n\nDoors will open at 6:30pm\n\n\n\n\nLocation:\n\n\n\n\nEast Grand Rapids High School Performing Arts Center\n\n\n\n2211 Lake Dr SE\, Grand Rapids\, MI 49506\n\n\n\n\n\n\nTicket Prices: \n\n\n\nTickets will be available at the door on Tuesday. Cash or credit card accepted. \n\n\n\n\n$22 Adult Ticket at the door\n\n\n\n$17 Student Ticket at the door – Ages 13+\n\n\n\n$20 Groups of 8+ Ticket at the door\n\n\n\nChildren 12 & under free\n\n\n\nAll tickets are general admission\n\n\n\n\n\n\n\n\nMore about the Raleigh Ringers\n\n\nFounded in 1990\, The Raleigh Ringers is an Emmy-nominated\, internationally-acclaimed concert handbell choir based in Raleigh\, North Carolina. The group has been dazzling audiences with unique interpretations of sacred\, secular and popular music\, including rock ‘n’ roll tunes that the group has become noted for\, along with original compositions written just for The Raleigh Ringers. \n\n\nUnder the direction of David M. Harris\, The Raleigh Ringers has performed in 39 States and the District of Columbia\, France\, England\, and Canada; live on the nationally syndicated “Bob and Tom Show” radio show; and on the “Hour of Power” at the Crystal Cathedral in California. In addition to six albums\, The Raleigh Ringers has released two full-length holiday concert videos. From those videos\, three one-hour concert specials were created and broadcast on over 250 American Public Television stations in 45 states. The most recent PBS special aired over 400 times in 38 states in its first year of national distribution. \n\n\n\nRaleigh Ringers Equipment\n\n\n\nThe Raleigh Ringers performs on one of the most extensive collections of bells and bell-like instruments owned by any handbell ensemble in the world. The current grand total is 35 octaves composed of 377 individual pieces of equipment. Each individual handbell set has its own unique sound. By mixing the sounds of these instruments\, members of The Raleigh Ringers are able to create contrasting moods and highlight melodic lines\, bringing richness and depth to the music they perform.
URL:https://embellishhandbells.com/event/raleigh-ringers-in-grand-rapids/
LOCATION:East Grand Rapids Performing Arts Center\, 2211 Lake Dr SE\, Grand Rapids\, MI\, 49506\, United States
ATTACH;FMTTYPE=image/jpeg:https://embellishhandbells.com/wp-content/uploads/2023/05/Embellish-handbells-6-19-two.jpg
END:VEVENT
BEGIN:VEVENT
DTSTART;TZID=America/Detroit:20230603T183000
DTEND;TZID=America/Detroit:20230603T193000
DTSTAMP:20260425T075522
CREATED:20230514T174141Z
LAST-MODIFIED:20230521T003313Z
UID:17-1685817000-1685820600@embellishhandbells.com
SUMMARY:Embellish at Grand Rapids Festival of the Arts
DESCRIPTION:Join Embellish at our final performance of the season as part of the Grand Rapids Festival of the Arts! \nThis is a free performance\, open to all!
URL:https://embellishhandbells.com/event/embellish-at-grand-rapids-festival-of-the-arts/
LOCATION:Grand Rapids Art Museum\, 101 Monroe Center St NW\, Grand Rapids\, 49503\, United States
ATTACH;FMTTYPE=image/jpeg:https://embellishhandbells.com/wp-content/uploads/2023/05/Embellish-handbells-6-19-one.jpg
END:VEVENT
END:VCALENDAR