BEGIN:VCALENDAR
VERSION:2.0
PRODID:-//Embellish Handbells - ECPv6.15.20//NONSGML v1.0//EN
CALSCALE:GREGORIAN
METHOD:PUBLISH
X-ORIGINAL-URL:https://embellishhandbells.com
X-WR-CALDESC:Events for Embellish Handbells
REFRESH-INTERVAL;VALUE=DURATION:PT1H
X-Robots-Tag:noindex
X-PUBLISHED-TTL:PT1H
BEGIN:VTIMEZONE
TZID:America/Detroit
BEGIN:DAYLIGHT
TZOFFSETFROM:-0500
TZOFFSETTO:-0400
TZNAME:EDT
DTSTART:20250309T070000
END:DAYLIGHT
BEGIN:STANDARD
TZOFFSETFROM:-0400
TZOFFSETTO:-0500
TZNAME:EST
DTSTART:20251102T060000
END:STANDARD
BEGIN:DAYLIGHT
TZOFFSETFROM:-0500
TZOFFSETTO:-0400
TZNAME:EDT
DTSTART:20260308T070000
END:DAYLIGHT
BEGIN:STANDARD
TZOFFSETFROM:-0400
TZOFFSETTO:-0500
TZNAME:EST
DTSTART:20261101T060000
END:STANDARD
BEGIN:DAYLIGHT
TZOFFSETFROM:-0500
TZOFFSETTO:-0400
TZNAME:EDT
DTSTART:20270314T070000
END:DAYLIGHT
BEGIN:STANDARD
TZOFFSETFROM:-0400
TZOFFSETTO:-0500
TZNAME:EST
DTSTART:20271107T060000
END:STANDARD
END:VTIMEZONE
BEGIN:VEVENT
DTSTART;TZID=America/Detroit:20260113T190000
DTEND;TZID=America/Detroit:20260113T213000
DTSTAMP:20260425T061931
CREATED:20251228T185120Z
LAST-MODIFIED:20251228T185731Z
UID:789-1768330800-1768339800@embellishhandbells.com
SUMMARY:Embellish Auditions 2026
DESCRIPTION:Information for Embellish Auditions 2026: \n\n\n\n\nEmbellish is a high-level handbell ensemble who rings level 3/4/5 pieces with precision and musicality. Embellish rehearses on Tuesday evenings from 7pm-9:30pm. It is expected that ringers will spend time outside of practice reviewing their music as well. \n\n\n\n\n\nAuditions will take place (by appointment only) on Tuesday\, January 13th. Please fill out the below form if you are interested in auditioning\, and our music director Brenda Austin will be in touch!\n\n\n\n\n\nEmbellish’s season runs from January through December\, with a “summer break” June-August. A rough draft of the season calendar may be found here.\n\n\n\nEmbellish members are asked to pay $150 in dues each season.*\n\n\n\n\n\nApply for Embellish Auditions\n\n\n\n\n*The Embellish Family does not want financial situations to be a barrier to participation. Confidential dues assistance may be discussed with the Board Treasurer.
URL:https://embellishhandbells.com/event/embellish-auditions-2026/
LOCATION:Faith Community Church\, 2600 7th St NW\, Grand Rapids\, Michigan\, 49504\, United States
END:VEVENT
BEGIN:VEVENT
DTSTART;TZID=America/Detroit:20260331T183000
DTEND;TZID=America/Detroit:20260331T190000
DTSTAMP:20260425T061931
CREATED:20260317T224741Z
LAST-MODIFIED:20260317T224746Z
UID:829-1774981800-1774983600@embellishhandbells.com
SUMMARY:Campana Mini-Concert
DESCRIPTION:You are invited to join our sister ensemble Campana for their Spring 2026 mini-concert!  \n\n\n\nThis is a free performance\, and Campana will be presenting the handbell pieces they have been preparing this semester to share with you\, and welcome the change of seasons with a lovely musical evening. We hope that you will join us!
URL:https://embellishhandbells.com/event/campana-mini-concert-3/
LOCATION:Faith Community Church\, 2600 7th St NW\, Grand Rapids\, Michigan\, 49504\, United States
END:VEVENT
BEGIN:VEVENT
DTSTART;TZID=America/Detroit:20260425T110000
DTEND;TZID=America/Detroit:20260425T120000
DTSTAMP:20260425T061931
CREATED:20260128T013051Z
LAST-MODIFIED:20260128T013056Z
UID:808-1777114800-1777118400@embellishhandbells.com
SUMMARY:Joint Concert with West Michigan Homeschool Fine Arts
DESCRIPTION:Embellish is pleased to be collaborating with the handbell choir from the West Michigan Homeschool Fine Arts program on Saturday\, April 25th.  \n\n\n\nAdmission will be a free-will offering.
URL:https://embellishhandbells.com/event/joint-concert-with-west-michigan-homeschool-fine-arts/
LOCATION:Corinth Reformed Church\, 129 100th St SE\, Byron Center\, Michigan\, 49315\, United States
END:VEVENT
BEGIN:VEVENT
DTSTART;TZID=America/Detroit:20260503T160000
DTEND;TZID=America/Detroit:20260503T173000
DTSTAMP:20260425T061931
CREATED:20251210T185241Z
LAST-MODIFIED:20260424T172504Z
UID:786-1777824000-1777829400@embellishhandbells.com
SUMMARY:"An Enchanted Spring" Handbell Concert
DESCRIPTION:Shake off the last of the winter chill and step into a world of shimmering sound! Embellish is thrilled to invite you to “An Enchanted Spring\,” a handbell concert designed to celebrate the season of renewal with a truly magical repertoire. \n\n\n\nFrom the spirited energy of Exultate and Vivace to the serene\, reflective moments of Be Still and The Ash Grove\, our bells will take you on a journey through every “bloom” of the musical landscape. Whether you’re looking for the whimsical charm of Enchanted and Capriccio or the high-octane\, unexpected thrill of Wizards in Winter\, there is a note for everyone to enjoy.  \n\n\n\nWe’ve curated a diverse selection of pieces that showcase the incredible range of handbell music. Come witness The Awakening of spring through the rhythmic precision and multi-dimensional tones of our ensemble. It’s going to be a Golden evening you won’t want to miss! \n\n\n\nJoin our email list to get concert updates delivered to your inbox! \n\n\n\nOnline Ticket Orders:\n\n\n\nSave $5 each when you pre-order your Adult general admission tickets online. Adult tickets will be $20 at the door. Military/Senior tickets will be $15 at the door. Students/Kids receive free admission. \n\n\n\n\n\n\n  \n  \n  \n    \n      \n        \n        May 3\, 2026 – 4:00 pm\n      \n    \n    \n      \n        \n          \n            Adult Advanced Ticket $15.00 USD\n          \n        \n      \n    \n    \n      \n        \n        Get My Tickets\n      \n    \n    \n      \n        \n          \n            At Will-Call (on May 3)\n          \n        \n      \n    \n    \n      \n        \n        Children/Students – Free\n      \n    \n    \n      \n        \n          \n            N/A\n          \n          \n            1 Reserved Student Ticket\n          \n          \n            2 Reserved Student Tickets\n          \n          \n            3 Reserved Student Tickets\n          \n          \n            4 Reserved Student Tickets\n          \n          \n            5 Reserved Student Tickets\n          \n          \n            6 Reserved Student Tickets\n          \n          \n            7 Reserved Student Tickets\n          \n          \n            8 Reserved Student Tickets\n          \n        \n      \n    \n  \n  \n  \n\n\n\n\n\n\n\n  \n  \n  \n    \n      \n        \n        May 3\, 2026 – 4:00 pm\n      \n    \n    \n      \n        \n          \n            Adult Military Advanced Ticket $15.00 USD\n          \n        \n      \n    \n    \n      \n        \n        Get My Tickets\n      \n    \n    \n      \n        \n          \n            At Will-Call (on May 3)\n          \n        \n      \n    \n    \n      \n        \n        Children/Students – Free\n      \n    \n    \n      \n        \n          \n            N/A\n          \n          \n            1 Reserved Student Ticket\n          \n          \n            2 Reserved Student Tickets\n          \n          \n            3 Reserved Student Tickets\n          \n          \n            4 Reserved Student Tickets\n          \n        \n      \n    \n  \n  \n  \n\n\n\n\n\n\n\n\n\n\nPerennials for Sale at Concert: Back by popular demand!\n\n\n\n\n\nAn assortment of quart and gallon pot sized perennials will be available to take home (Suggested donation price: $15 each\, cash or credit). \n\n\n\nWe’ll have Proven Winners® and Walters Gardens varieties of plants for sun and shade\, courtesy of Walters Gardens. \n\n\n\nAll proceeds will support the Embellish Family.
URL:https://embellishhandbells.com/event/embellish-spring-concert/
LOCATION:Matthews Performing Arts Center at Cornerstone University\, 3000 Leonard St NE\, Grand Rapids\, Michigan\, 49525\, United States
END:VEVENT
BEGIN:VEVENT
DTSTART;TZID=America/Detroit:20260508T180000
DTEND;TZID=America/Detroit:20260508T193000
DTSTAMP:20260425T061931
CREATED:20260319T004944Z
LAST-MODIFIED:20260320T164435Z
UID:831-1778263200-1778268600@embellishhandbells.com
SUMMARY:“An Enchanted Spring” Handbell Tour - Chicago
DESCRIPTION:Embellish is thrilled to invite you to “An Enchanted Spring\,” a handbell concert designed to celebrate the season of renewal with a truly magical repertoire. \n\n\n\nFrom the spirited energy of Exultate and Vivace to the serene\, reflective moments of Be Still and The Ash Grove\, our bells will take you on a journey through every “bloom” of the musical landscape. Whether you’re looking for the whimsical charm of Enchanted and Capriccio or the high-octane\, unexpected thrill of Wizards in Winter\, there is a note for everyone to enjoy. \n\n\n\nWe’ve curated a diverse selection of pieces that showcase the incredible range of handbell music. Come witness The Awakening of spring through the rhythmic precision and multi-dimensional tones of our ensemble. It’s going to be a Golden evening you won’t want to miss! \n\n\n\n\n\n\n\nJoin our email list to get concert updates delivered to your inbox!
URL:https://embellishhandbells.com/event/an-enchanted-spring-handbell-tour-chicago/
LOCATION:Fourth Presbyterian Church\, 126 E Chestnut St\, Chicago\, IL\, 60611\, United States
END:VEVENT
BEGIN:VEVENT
DTSTART;TZID=America/Detroit:20260509T190000
DTEND;TZID=America/Detroit:20260509T203000
DTSTAMP:20260425T061931
CREATED:20260319T005327Z
LAST-MODIFIED:20260319T005332Z
UID:835-1778353200-1778358600@embellishhandbells.com
SUMMARY:“An Enchanted Spring” Handbell Tour – St. Joseph
DESCRIPTION:Embellish is thrilled to invite you to “An Enchanted Spring\,” a handbell concert designed to celebrate the season of renewal with a truly magical repertoire. \n\n\n\nFrom the spirited energy of Exultate and Vivace to the serene\, reflective moments of Be Still and The Ash Grove\, our bells will take you on a journey through every “bloom” of the musical landscape. Whether you’re looking for the whimsical charm of Enchanted and Capriccio or the high-octane\, unexpected thrill of Wizards in Winter\, there is a note for everyone to enjoy. \n\n\n\nWe’ve curated a diverse selection of pieces that showcase the incredible range of handbell music. Come witness The Awakening of spring through the rhythmic precision and multi-dimensional tones of our ensemble. It’s going to be a Golden evening you won’t want to miss! \n\n\n\n\n\n\n\nJoin our email list to get concert updates delivered to your inbox!
URL:https://embellishhandbells.com/event/an-enchanted-spring-handbell-tour-st-joseph/
LOCATION:First Congregational Church\, 2001 Niles Ave\, St. Joseph\, Michigan\, 49085\, United States
END:VEVENT
BEGIN:VEVENT
DTSTART;TZID=America/Detroit:20260510T160000
DTEND;TZID=America/Detroit:20260510T173000
DTSTAMP:20260425T061931
CREATED:20260319T005955Z
LAST-MODIFIED:20260319T005959Z
UID:839-1778428800-1778434200@embellishhandbells.com
SUMMARY:“An Enchanted Spring” Handbell Tour – Eaton Rapids
DESCRIPTION:Embellish is thrilled to invite you to “An Enchanted Spring\,” a handbell concert designed to celebrate the season of renewal with a truly magical repertoire. \n\n\n\nFrom the spirited energy of Exultate and Vivace to the serene\, reflective moments of Be Still and The Ash Grove\, our bells will take you on a journey through every “bloom” of the musical landscape. Whether you’re looking for the whimsical charm of Enchanted and Capriccio or the high-octane\, unexpected thrill of Wizards in Winter\, there is a note for everyone to enjoy. \n\n\n\nWe’ve curated a diverse selection of pieces that showcase the incredible range of handbell music. Come witness The Awakening of spring through the rhythmic precision and multi-dimensional tones of our ensemble. It’s going to be a Golden evening you won’t want to miss! \n\n\n\n\n\n\n\nJoin our email list to get concert updates delivered to your inbox!
URL:https://embellishhandbells.com/event/an-enchanted-spring-handbell-tour-eaton-rapids/
LOCATION:First United Methodist Church\, 600 S Main St\, Eaton Rapids\, Michigan\, 48827\, United States
END:VEVENT
END:VCALENDAR