BEGIN:VCALENDAR
VERSION:2.0
PRODID:-//Embellish Handbells - ECPv6.15.20//NONSGML v1.0//EN
CALSCALE:GREGORIAN
METHOD:PUBLISH
X-WR-CALNAME:Embellish Handbells
X-ORIGINAL-URL:https://embellishhandbells.com
X-WR-CALDESC:Events for Embellish Handbells
REFRESH-INTERVAL;VALUE=DURATION:PT1H
X-Robots-Tag:noindex
X-PUBLISHED-TTL:PT1H
BEGIN:VTIMEZONE
TZID:America/Detroit
BEGIN:DAYLIGHT
TZOFFSETFROM:-0500
TZOFFSETTO:-0400
TZNAME:EDT
DTSTART:20240310T070000
END:DAYLIGHT
BEGIN:STANDARD
TZOFFSETFROM:-0400
TZOFFSETTO:-0500
TZNAME:EST
DTSTART:20241103T060000
END:STANDARD
BEGIN:DAYLIGHT
TZOFFSETFROM:-0500
TZOFFSETTO:-0400
TZNAME:EDT
DTSTART:20250309T070000
END:DAYLIGHT
BEGIN:STANDARD
TZOFFSETFROM:-0400
TZOFFSETTO:-0500
TZNAME:EST
DTSTART:20251102T060000
END:STANDARD
BEGIN:DAYLIGHT
TZOFFSETFROM:-0500
TZOFFSETTO:-0400
TZNAME:EDT
DTSTART:20260308T070000
END:DAYLIGHT
BEGIN:STANDARD
TZOFFSETFROM:-0400
TZOFFSETTO:-0500
TZNAME:EST
DTSTART:20261101T060000
END:STANDARD
END:VTIMEZONE
BEGIN:VEVENT
DTSTART;TZID=America/Detroit:20250706T180000
DTEND;TZID=America/Detroit:20250706T200000
DTSTAMP:20260424T234534
CREATED:20250325T235056Z
LAST-MODIFIED:20250629T115344Z
UID:464-1751824800-1751832000@embellishhandbells.com
SUMMARY:Summer Tour: Send-Off Concert & Dinner
DESCRIPTION:Join Embellish for a magical evening as we celebrate the kick-off of our summer tour to Wichita\, Kansas\, with dinner and a concert! Enjoy a delicious pasta dinner and enjoy the musical offerings of our own West Michigan handbell ensemble at the “Pinnacle” of their musical year! Dinner is served at 6 pm\, and our concert will begin at 7 pm. Take a break from making dinner and join us! \n\n\n\nOnline Dinner + Concert ticket sales have ended. Tickets for concert-only attendees will be available at the door beginning at 6:30pm on July 6th for $15 each. \n\n\n\n\n\n\n\nVIP Individual Tickets: $40VIP Table (6 tickets): $220 Save $20!\n\n\n\n\nIncludes front row concert seats\n\n\n\nVIP Meal: Lasagna and Fettucine Alfredo\, Garden Salad\, Breadsticks\, Brownie or Chocolate Chip Cookie\, Ice Cream Sundae\n\n\n\n\n\n\n\n\n\n\n\n\n\n\n\n\n\n\nDinner and a Show Tickets: $25Dinner and a Show Table (6 tickets): $130 Save $20!\n\n\n\n\nMeal Option #1: Spaghetti with Meat Sauce\, Garden Salad\, Breadsticks\, Ice Cream Sundae\n\n\n\nMeal Option #2: Fettuccine Alfredo (Vegetarian)\, Garden Salad\, Breadsticks\, Ice Cream Sundae\n\n\n\nMeal Option #3: Gluten-Free Rotini with Meat Sauce\, Garden Salad\, Ice Cream Sundae\n\n\n\n\n\n\n\n\n\n\n\n\n\n\n\n\n\n\nStudent Dinner and a Show Tickets: $10\n\n\n\n\n\n\n\nConcert Tickets Only: $15\n\n\n\nStudent Concert Only Tickets are Free!
URL:https://embellishhandbells.com/event/summer-tour-send-off-concert-dinner/
LOCATION:Calvin Christian Reformed Church\, 700 Ethel Ave SE\, Grand Rapids\, Michigan\, 49506\, United States
END:VEVENT
END:VCALENDAR