BEGIN:VCALENDAR
VERSION:2.0
PRODID:-//Embellish Handbells - ECPv6.15.20//NONSGML v1.0//EN
CALSCALE:GREGORIAN
METHOD:PUBLISH
X-WR-CALNAME:Embellish Handbells
X-ORIGINAL-URL:https://embellishhandbells.com
X-WR-CALDESC:Events for Embellish Handbells
REFRESH-INTERVAL;VALUE=DURATION:PT1H
X-Robots-Tag:noindex
X-PUBLISHED-TTL:PT1H
BEGIN:VTIMEZONE
TZID:America/Detroit
BEGIN:DAYLIGHT
TZOFFSETFROM:-0500
TZOFFSETTO:-0400
TZNAME:EDT
DTSTART:20240310T070000
END:DAYLIGHT
BEGIN:STANDARD
TZOFFSETFROM:-0400
TZOFFSETTO:-0500
TZNAME:EST
DTSTART:20241103T060000
END:STANDARD
BEGIN:DAYLIGHT
TZOFFSETFROM:-0500
TZOFFSETTO:-0400
TZNAME:EDT
DTSTART:20250309T070000
END:DAYLIGHT
BEGIN:STANDARD
TZOFFSETFROM:-0400
TZOFFSETTO:-0500
TZNAME:EST
DTSTART:20251102T060000
END:STANDARD
BEGIN:DAYLIGHT
TZOFFSETFROM:-0500
TZOFFSETTO:-0400
TZNAME:EDT
DTSTART:20260308T070000
END:DAYLIGHT
BEGIN:STANDARD
TZOFFSETFROM:-0400
TZOFFSETTO:-0500
TZNAME:EST
DTSTART:20261101T060000
END:STANDARD
END:VTIMEZONE
BEGIN:VEVENT
DTSTART;TZID=America/Detroit:20250315T083000
DTEND;TZID=America/Detroit:20250315T143000
DTSTAMP:20260425T062652
CREATED:20241123T191303Z
LAST-MODIFIED:20250310T231113Z
UID:374-1742027400-1742049000@embellishhandbells.com
SUMMARY:Winter Warm Up
DESCRIPTION:Winter’s chill got you down? Warm up your handbell skills with Embellish! We’re hosting a relaxed day of classes for ringers of all levels – from newbies to seasoned pros. We’ve got coffee\, muffins\, treats\, and lunch covered. All you need to do is register and join the fun! We’ll handle the rest. \n\n\n\nThere will be four class sessions\, lunch\, and a mini-concert by Embellish. \n\n\n\nWhen & Where:\n\n\n\nWe are just days away from Winter Warm Up 2025! With over 80 ringers registered\, we’re sure to have a fun day enjoying all things bell related! Below is some info you will want to review before Saturday. \n\n\n\n\nWhere to go: Rush Creek Bible Church\, 2334 76th St SW\, Byron Center\, MI 49315.  \n\n\n\nRegistration:  Begins at 8:30 and goes until 9. A light breakfast snack will be available.\n\n\n\nClass Schedule: At registration each ringer will receive their personalized class schedule for the day.\n\n\n\nWhat to bring:\n\ngloves if you have them\n\n\n\nwater bottle\n\n\n\ndress comfortably\, especially shoes. We recommend tennis shoes or sneakers of some sort. The church has requested that we do not wear black soled shoes in order to help protect their gym floor.\n\n\n\n\n\n\nSpeaking of shoes\, you have the opportunity to donate your old sneakers to help support Embellish! We are partnering with GotSneakers to recycle and repurpose old footwear\, with proceeds from this fundraiser going directly to support Embellish’s Tour Fund.  If you have any old pairs of shoes laying around\, please bring them to Winter Warm Up. We will have a donation box in the lobby\, and appreciate any donations! Accepted shoes must be donated as a pair\, and only the “styles” of shoes below are eligible for this program. \n\n\n\n\n\n\n\n\n\n\n\n\n\nWhat to bring:\n\n\n\n\nGloves (bells and other equipment will be provided)\n\n\n\nDress comfortably (especially shoes\, but please no black soled shoes per the church’s request)\n\n\n\n\nSchedule:\n\n\n\n\n8:30—Registration begins\n\n\n\n9:00—Welcome & announcements\n\n\n\nSESSION 1\n\n\n\nSESSION 2\n\n\n\nSESSION 3\n\n\n\nLUNCH (included)\n\n\n\nSESSION 4\n\n\n\nMini Concert by Embellish\n\n\n\n\nRegistration Information:\n\n\n\nRegistration is now closed! If you missed this year’s event\, please make sure to sign up for our email list so you’ll be notified of the next workshop that Embellish hosts! \n\n\n\n\n\n\n\n\n\n\n\n\n\n\n\n\n\n2025 Class Offerings\n\n\n\nBased on feedback from previous workshops we have added new classes and brought back some of your favorites! Have each ringer read through the list below and choose the top 6 classes they would like to attend. They can indicate their choices on the Ringer Class Request Form provided. \n\n\n\n\nBack-to-Basics:  Learn the basics from picking up your bells to laying them down\, and everything in between. This class will start from the beginning and will reinforce basic ringing techniques for bells and chimes.\n\n\n\nBeyond Ringing:  Once you’ve mastered how to ring\, come discuss all that’s involved beyond ringing. Thumb damps\, marts\, plucks\, mallets\, tower swings…the list goes on and on. This class will discuss the proper way to do all things “beyond ringing.” Come learn the finer details of all the techniques above and learn ones you may not have ever heard of!\n\n\n\nBig Bass Bells:  If you’ve always wanted to ring the monsters\, this class is for you. This class will discuss different techniques for ringing B3 on down\, ideas for assignments\, and healthy ringing.\n\n\n\nConducting Masterclass: Directors: improve your groups’ performance by improving your own. Brenda Austin\, internationally known conductor\, clinician and composer\, will observe you “at work” and give you pointers. Each participant should bring with them copies of music they would like to conduct. It could be something you are working on with your bell choir currently. We will provide ringers for you to conduct. Brenda will give guidance\, in the style of a masterclass\, to improve your conducting and communication with your groups.\n\n\n\nDynamic Directing: Every director faces their own unique challenges. Whether you’re starting a beginning group\, troubleshooting hard-to-ring passages or looking for your group to ring more musically\, you are not in this alone. Brenda Austin is an internationally-recognized director and clinician who has directed groups of all levels and ages\, and will share her insights from the other side of the podium.\n\n\n\nEmbellishments:  Want to achieve that WOW factor from your congregation or audience? Learn how to “embellish” your performance by adding instrumentation and percussion. Explore sounds beyond bells that will create a knock-out performance. This class will allow ringers to have hands-on experience with different types of bells\, chimes\, and percussion instruments like wind chimes\, tambourine\, Djembe\, Cajon\, and many more!\n\n\n\nFrom Start to Finish:  This sight-reading session will allow ringers to work a piece from start to finish. Find a new stand partner\, and experience ringing a new position while learning and perfecting a piece in a very short period of time. This class will ring a mid-level piece and is open to all abilities.\n\n\n\nPractice Prep: Are you the type of ringer that wishes you had more time in rehearsal each week? There are so many things you can do to help learn a piece faster and more efficiently. Embellish will share thoughts on marking music\, page turns\, bell assignments\, and individual work that will maximize your time spent as a group.\n\n\n\nRhythm and Games: Bell ringers are percussionists. Rhythm is our jam. But we don’t go it alone. Ringing in a group takes teamwork and trust. This class will improve rhythm using a fun team approach and will address how posture\, body movement\, and mood all contribute to ringing in time and on time.\n\n\n\nSolo & Small Ensemble Ringing: Have you ever wanted to ring it all? This class will address the ins and outs of solo and small ensemble ringing so that you can take the stage on your own. Come learn what it takes to separate from the pack and go it alone.\n\n\n\nTackling Treble – Beginner: Come try your hand at treble. Ringers will learn how to ring multiple bells and will be introduced to shelly and 4-in-hand techniques. Basic techniques on bells and chimes will be covered.\n\n\n\nTackling Treble – Intermediate/Advanced: If you already ring multiples\, come refine your technique and learn 6-in-hand in this advanced session. This class will also discuss how to mart\, mallet\, thumb damp\, and pluck those hard-to-ring passages.\n\n\n\nTricks of the Trade: Do you want your performance to go from good to great? Sometimes we get in our own way and make things harder than they need to be. This class will share Embellish’s “secret sauce” on challenging passages\, impossible measures\, and the key to making it look easy. This class will also address the finer details of polishing your performance once the notes are mastered.\n\n\n\nWeaving with Bells: This is not a crafting class! Weaving is a ringing technique – really!! It will help you get to that accidental or through those quick passages with bells and chimes. Learn how to take the confusion out of picking them up and putting them down.
URL:https://embellishhandbells.com/event/winter-warm-up/
LOCATION:Michigan
END:VEVENT
END:VCALENDAR