BEGIN:VCALENDAR
VERSION:2.0
PRODID:-//Embellish Handbells - ECPv6.15.20//NONSGML v1.0//EN
CALSCALE:GREGORIAN
METHOD:PUBLISH
X-WR-CALNAME:Embellish Handbells
X-ORIGINAL-URL:https://embellishhandbells.com
X-WR-CALDESC:Events for Embellish Handbells
REFRESH-INTERVAL;VALUE=DURATION:PT1H
X-Robots-Tag:noindex
X-PUBLISHED-TTL:PT1H
BEGIN:VTIMEZONE
TZID:America/Detroit
BEGIN:DAYLIGHT
TZOFFSETFROM:-0500
TZOFFSETTO:-0400
TZNAME:EDT
DTSTART:20230312T070000
END:DAYLIGHT
BEGIN:STANDARD
TZOFFSETFROM:-0400
TZOFFSETTO:-0500
TZNAME:EST
DTSTART:20231105T060000
END:STANDARD
BEGIN:DAYLIGHT
TZOFFSETFROM:-0500
TZOFFSETTO:-0400
TZNAME:EDT
DTSTART:20240310T070000
END:DAYLIGHT
BEGIN:STANDARD
TZOFFSETFROM:-0400
TZOFFSETTO:-0500
TZNAME:EST
DTSTART:20241103T060000
END:STANDARD
BEGIN:DAYLIGHT
TZOFFSETFROM:-0500
TZOFFSETTO:-0400
TZNAME:EDT
DTSTART:20250309T070000
END:DAYLIGHT
BEGIN:STANDARD
TZOFFSETFROM:-0400
TZOFFSETTO:-0500
TZNAME:EST
DTSTART:20251102T060000
END:STANDARD
END:VTIMEZONE
BEGIN:VEVENT
DTSTART;TZID=America/Detroit:20240507T180000
DTEND;TZID=America/Detroit:20240507T193000
DTSTAMP:20260425T175109
CREATED:20240424T191036Z
LAST-MODIFIED:20240424T191231Z
UID:341-1715104800-1715110200@embellishhandbells.com
SUMMARY:Open House: Prospective Ringers & Community Welcome!
DESCRIPTION:Join us on May 7th at 6pm for our Embellish Open House! Anyone who is interested in the “behind the scenes” of Embellish is welcome! \n\n\n\n Prospective ringers are invited to come learn what it takes to be part of the group\, whether you are interested in potentially ringing with Embellish or Campana. \n\n\n\n Local handbell ringers and/or directors can stay (or join) at 7pm to see how we run an Embellish rehearsal. \n\n\n\n Community musicians interested in partnering with Embellish are welcome to attend as well\, to meet Brenda E. Austin – Embellish’s new Music Director. \n\n\n\nRSVPs appreciated via our Facebook Event Page.
URL:https://embellishhandbells.com/event/open-house-prospective-ringers-community-welcome/
LOCATION:Michigan
END:VEVENT
END:VCALENDAR