BEGIN:VCALENDAR
VERSION:2.0
PRODID:-//Embellish Handbells - ECPv6.15.20//NONSGML v1.0//EN
CALSCALE:GREGORIAN
METHOD:PUBLISH
X-WR-CALNAME:Embellish Handbells
X-ORIGINAL-URL:https://embellishhandbells.com
X-WR-CALDESC:Events for Embellish Handbells
REFRESH-INTERVAL;VALUE=DURATION:PT1H
X-Robots-Tag:noindex
X-PUBLISHED-TTL:PT1H
BEGIN:VTIMEZONE
TZID:America/Detroit
BEGIN:DAYLIGHT
TZOFFSETFROM:-0500
TZOFFSETTO:-0400
TZNAME:EDT
DTSTART:20220313T070000
END:DAYLIGHT
BEGIN:STANDARD
TZOFFSETFROM:-0400
TZOFFSETTO:-0500
TZNAME:EST
DTSTART:20221106T060000
END:STANDARD
BEGIN:DAYLIGHT
TZOFFSETFROM:-0500
TZOFFSETTO:-0400
TZNAME:EDT
DTSTART:20230312T070000
END:DAYLIGHT
BEGIN:STANDARD
TZOFFSETFROM:-0400
TZOFFSETTO:-0500
TZNAME:EST
DTSTART:20231105T060000
END:STANDARD
BEGIN:DAYLIGHT
TZOFFSETFROM:-0500
TZOFFSETTO:-0400
TZNAME:EDT
DTSTART:20240310T070000
END:DAYLIGHT
BEGIN:STANDARD
TZOFFSETFROM:-0400
TZOFFSETTO:-0500
TZNAME:EST
DTSTART:20241103T060000
END:STANDARD
END:VTIMEZONE
BEGIN:VEVENT
DTSTART;TZID=America/Detroit:20231212T193000
DTEND;TZID=America/Detroit:20231212T210000
DTSTAMP:20260425T233452
CREATED:20230806T145009Z
LAST-MODIFIED:20231210T173125Z
UID:205-1702409400-1702414800@embellishhandbells.com
SUMMARY:'Tis the Season to Embellish - Holiday Handbell Concert
DESCRIPTION:12/10/23 Ticket Update: \n\n\n\nWe are overwhelmed by all of the support and excitement for this Tuesday’s concert!  \n\n\n\n There will be a VERY LIMITED number of tickets available for purchase at the door on Tuesday\, as we are close to hitting the seating capacity at the venue. \n\n\n\n As of Sunday 12/10 online ticket pre-sales have been closed. \n\n\n\n\n\n\n\nJoin the Embellish Family for this year’s Holiday Handbell Concert!  \n\n\n\nThis year’s concert will feature both Embellish and Campana performing songs in the theme of “Angels & Demons.” \n\n\n\n \n\n\n\n\n\n\n\n\n\n\n\n\n\n\n\n\n\n\n\n\n\n \n\n\n\n\n\n\n\nFor discounted group tickets for 10 or more tickets\, please contact us at Embellish@EmbellishHandbells.com
URL:https://embellishhandbells.com/event/tis-the-season-to-embellish-holiday-handbell-concert/
LOCATION:Mayflower Congregational Church\, 2345 Robinson Rd SE\, Grand Rapids\, Michigan\, 49506\, United States
END:VEVENT
END:VCALENDAR